BEGIN:VCALENDAR
VERSION:2.0
PRODID:-//No Limits SM-Bar &amp; Lounge, BDSM Wien - ECPv6.8.3//NONSGML v1.0//EN
CALSCALE:GREGORIAN
METHOD:PUBLISH
X-WR-CALNAME:No Limits SM-Bar &amp; Lounge, BDSM Wien
X-ORIGINAL-URL:https://www.nolimits.bar/de
X-WR-CALDESC:Veranstaltungen für No Limits SM-Bar &amp; Lounge, BDSM Wien
REFRESH-INTERVAL;VALUE=DURATION:PT1H
X-Robots-Tag:noindex
X-PUBLISHED-TTL:PT1H
BEGIN:VTIMEZONE
TZID:Europe/Berlin
BEGIN:DAYLIGHT
TZOFFSETFROM:+0100
TZOFFSETTO:+0200
TZNAME:CEST
DTSTART:20240331T010000
END:DAYLIGHT
BEGIN:STANDARD
TZOFFSETFROM:+0200
TZOFFSETTO:+0100
TZNAME:CET
DTSTART:20241027T010000
END:STANDARD
END:VTIMEZONE
BEGIN:VEVENT
DTSTART;TZID=Europe/Berlin:20241109T210000
DTEND;TZID=Europe/Berlin:20241110T040000
DTSTAMP:20260420T005151
CREATED:20230708T142846Z
LAST-MODIFIED:20230708T142846Z
UID:10003655-1731186000-1731211200@www.nolimits.bar
SUMMARY:No Limits CMNF - DIE Maledomparty
DESCRIPTION:An diesen Abend haben alle teilnehmenden Damen die devote\, die teilnehmenden Herren die dominante Rolle. Die Herren sind elegant gekleidet\, die Damen nackt. \nEine strikte Maledom Party\, bei der alle Mädchen bis auf Accessoires wie Halsband\, Plug\, Schmuck oder KG nackt sind.\nSie treffen auf elegant gewandete Gentlemen\, die wissen wie man mit ihnen so umzugehen\, damit sie ihr volles Potential ausschöpfen können.  \nAlle Mädchen werden von ihrem Herrn nach dem Eintreffen der Kleidung entledigt. Mädchen\, die sich nicht im Eigentum eines bestimmten Herrn befinden\, melden sich bei den Protagonisten des Abends. Auch sie werden angewiesen sich störender Kleidung zu entledigen. \nDerart ihre körperlichen Vorzüge zur Schau gestellt haben die Mädls zu beweisen\, ob sie außer schön zu sein auch sonst noch etwas können. Dazu hat jedes Mädchen die Möglichkeit in den Kreis der Macht zu treten und von ihrem Herrn vorgestellt zu werden. \nZusätzlich wird den Mädchen noch die Möglichkeit eingeräumt sich Benutzungshinweise per Bemalung oder Umhängtafel direkt am Körper anbringen zu lassen. \nDie Mädchen treffen auf niveauvolle\, stilsichere Herren\, die in elegantem Outfit erscheinen. \nAlle Frauen haben die einzigartige Gelegenheit\, sich in einer strikt von Männern dominierten Welt zu beweisen\, in der sie auf die existentielle Nacktheit zurückgeworfen sind. Die Männer müssen sich nicht einmal mehr die Mühe machen\, die Damen mit den Augen auszuziehen – sie sind nämlich schon nackt. \nZusätzlich hat jede Dame noch die Möglichkeit sich mit einem „touch me!“\, „spank me!“ oder „use me!“ dekorieren zu lassen. Selbstverständlich sind auch Mehrfachhinweise möglich. Derartige Hinweise erhöhen erfahrungsgemäß die Wahrscheinlichkeiten entsprechender Erfahrungen beträchtlich. Damen\, die in Begleitung ihres Herren kommen\, brauchen sich über derartige Entscheidungen keine Gedanken zu machen – diese Klarstellungen werden von ihrem Herrn getroffen. \nUm 23:00 haben alle interessierten Damen die Möglichkeit in einem heißen Wettbewerb zu bestehen. Es wird die am besten ausgebildete Sklavin gekürt. Sie gewinnt für ihren Herrn eine Flasche Potenza Primitivo 2007. Es beginnt noch relativ einfach mit einem „naked girls catwalk“ vor den Augen der gestrengen Jury. In weiteren Runden sind klassische Tugenden dienender Mädchen gefragt wie kognitives Vermögen\, Ausdauer\, Kraft oder Schmerztoleranz. \nSchließlich geht es weiter mit viel Disziplin und Anmut. Aber es wird auch jede Menge getanzt\, gescherzt und gelacht. \nAblauf:\n21:00 Start\n21:30 Aufnahme in den Kreis der Dominanz\n23:00 Krönung der besten O des No Limits\n04:00 Ende \nDresscode:\nMänner: Abendkleidung\, Anzug\, Smoking\, eine elegante Hose mit Hemd (Krawatte muss nicht sein) Fetischkleidung gerne\, wenn sie stilvoll ist\nKEINE T-Shirts\, kein Camouflage\, wenn Uniform – dann die A-Garnitur\nDamen: nackt bis auf Accessoires wie Strümpfe\, Halsband\, Plug\, Schmuck oder KG \nEintrittspreise:\n€ 38.- für Männer\n€   0.- für Damen\n€ 18.- für Paare \nKarten sind an der Abendkassa im No Limits erhältlich.
URL:https://www.nolimits.bar/de/event/no-limits-cmnf-die-maledomparty-3-3/
LOCATION:NoLimits\, Wurmbstraße 36\, Wien\, Wien\, 1120\, Österreich
CATEGORIES:Party
ATTACH;FMTTYPE=image/jpeg:https://www.nolimits.bar/de/wp-content/uploads/2015/11/Header.jpg
ORGANIZER;CN="NoLimits":MAILTO:office@nolimits.bar
GEO:48.171795;16.332904
X-APPLE-STRUCTURED-LOCATION;VALUE=URI;X-ADDRESS=NoLimits Wurmbstraße 36 Wien Wien 1120 Österreich;X-APPLE-RADIUS=500;X-TITLE=Wurmbstraße 36:geo:16.332904,48.171795
END:VEVENT
END:VCALENDAR