BEGIN:VCALENDAR
VERSION:2.0
PRODID:-//No Limits SM-Bar &amp; Lounge, BDSM Wien - ECPv6.8.3//NONSGML v1.0//EN
CALSCALE:GREGORIAN
METHOD:PUBLISH
X-WR-CALNAME:No Limits SM-Bar &amp; Lounge, BDSM Wien
X-ORIGINAL-URL:https://www.nolimits.bar/de
X-WR-CALDESC:Veranstaltungen für No Limits SM-Bar &amp; Lounge, BDSM Wien
REFRESH-INTERVAL;VALUE=DURATION:PT1H
X-Robots-Tag:noindex
X-PUBLISHED-TTL:PT1H
BEGIN:VTIMEZONE
TZID:Europe/Berlin
BEGIN:DAYLIGHT
TZOFFSETFROM:+0100
TZOFFSETTO:+0200
TZNAME:CEST
DTSTART:20240331T010000
END:DAYLIGHT
BEGIN:STANDARD
TZOFFSETFROM:+0200
TZOFFSETTO:+0100
TZNAME:CET
DTSTART:20241027T010000
END:STANDARD
END:VTIMEZONE
BEGIN:VEVENT
DTSTART;TZID=Europe/Berlin:20240504T210000
DTEND;TZID=Europe/Berlin:20240505T040000
DTSTAMP:20260424T080909
CREATED:20230318T180015Z
LAST-MODIFIED:20230318T180015Z
UID:10003503-1714856400-1714881600@www.nolimits.bar
SUMMARY:Boot Camp für schwer erziehbare Buben
DESCRIPTION:Ein Gefängnisszenario\, bei dem männliche Insassen von herrischen Wärterinnen gedrillt\, erzogen\, bestraft und schikaniert werden \nEine strikte Femdom Party\, bei der ausschließlich dominante Frauen als Wärterinnen angezeigte Gesetzesübertretungen devoter Männer bestrafen und therapieren. \nNicht mal das Gefühl gehabt\, du brauchst eine richtig harte Hand\, die dich auf den Pfad der Tugend zurückführt? Gründe dafür gäbe es ja zuhauf: schlechte Manieren\, Unpässlichkeiten\, Widerworte\, Faulheit\, Dummheit oder gar das Herumspielen an verbotenen Körperteilen! Nun heute Abend wird diesen Flausen ein Ende gesetzt: durch ein Team von knallharten\, superstrengen weiblichen Drill-Sergeants\, die alle Insassen in ihrer Obhut an die ganz kurze Leine nehmen! \nDu möchtest dich mal richtig austoben? Gestandene Männer nach allen Regeln der Kunst runtermachen können\, sie nach Lust und Laune vermöbeln dürfen und dir gleichzeitig jeden noch so ausgefallenen Wunsch von den Lippen ablesen lassen? \nDu möchtest gerne mal als Zaungast aus sicherer Entfernung miterleben können\, wie so ein Gefängnisszenario in realiter abläuft? Oder du möchtest miterleben\, wie mit deinen unbotmäßigen Schützling ohne Federlesens umgesprungen wird\, während du dich angeregt bei einem Glas Weißwein an der Bar unterhältst? \nDann bist du an diesem Abend goldrichtig im No Limits! Heute öffnet unser Gefängnis für Buben\, die wegen diversester Untaten gegen das weibliche Geschlecht eingeliefert worden sind\, seine Pforten. Bis in der Früh werden straffällig gewordene Buben von Wärterinnen\, mit denen es nichts zum Ausdiskutieren gibt\, bestraft und bis zur totalen Erschöpfung geschliffen. Die Drill-Sergeants befehlen und die Insassen gehorchen – so einfach ist das. Bei jedem Fehltritt – ob beabsichtigt oder unbeabsichtigt\, ob er tatsächlich passiert ist oder nur von einer sadistischen Gardistin so angenommen worden ist – gibt es sofortige\, sehr deutlich spürbare Konsequenzen. „Therapie und Strafe” ist das gelebte Motto dieses Abends. Denn wenn es um die Gesundheit\, Erziehung und Wiedereingliederung der Insassen geht\, darf vor keiner noch so peinlichen oder schmerzhaften Prozedur zurückgeschreckt werden. \nDas Team der Drill-Sergeants wird von sehr erfahrenen Erzieherinnen geleitet. Daher ist es auch selbstverständlich\, dass auf körperliche Einschränkungen und Tabus der Insassen entsprechend Rücksicht genommen wird. Diese werden per Fragebogen und Einverständniserklärung abgefragt. \nDie männlichen Insassen des boot camps sind vollkommen rechtlos und der Willkür der Frauen hilflos ausgeliefert. Natürlich hat jeder Insasse\, für dem die Realität gegenüber der Fantasie doch zu hefig ausgefallen ist\, die Möglichkeit jederzeit das Spiel abzubrechen. Ob ihm eine Pause gegönnt wird oder er die Einrichtung zu verlassen hat entscheiden einzig und allein die Drill-Sergeants. Tatsächlich werden unter den Wärterinnen bereits Wetten zur Ausfallquote abgeschlossen. Insassen\, die bis zum Schluss durchgehalte\, sollten damit rechnen\, dass sie mit einer toll versohlten Erziehungsfläche und einem ausgewachsenen Muskelkater nach Hause gehen werden. \nDavon sind die Besucherinnen und Besucher natürlich gefeit. Sie sind hier\, um sich die Errungenschaften des No Limits Boot Camps anzusehen und allenfalls zu entscheiden\, ob sie ihren Schützling oder sich selbst beim nächsten Mal einliefern sollten. Es kommt immer wieder vor\, dass weibliche Besucherinnen von den Wärterinnen die Einladung bekommen sich an mancher Stelle auch aktiv einzubringen. Insbesondere dann\, wenn sie immer wieder fleißig Meldung von Regelübertretungen durch einen der Insassen gemacht haben. Übergriffe von Besucherinnen auf Insassen werden grundsätzlich gerne gesehen. \nMännliche Besucher genießen das Szenario hingegen in sicherer Entfernung. \nDresscode:\nFür Wärterinnen: Lack\, Leder\, Latex\, aber auch Uniform von Lehrerin\, DrillSergeant oder Fitnesscoach; wesentlich wichtiger als das richtige Outfit ist\nnatürlich die Einstellung\nFür weibliche wie männliche Gäste gibt es keinen Dresscode\nInsassen haben sich über weder über Kleidung noch über sonst etwas Gedanken\nzu machen; das wird ihnen schon erklärt \nAblauf:\n19:00 Einlass für die Wärterinnnen – sie haben die Möglichkeit zu einer Lage- und Ablaufbesprechung\n20:00 Einlass für Besucherinnen und Insassen. Die Insassen haben einen Fragebogen auszufüllen und eine Einverständniserklärung zu unterfertigen und werden bezüglich ihrer Pflichten unterwiesen.\n21:00 Beginn des boot camps\n04:00 Ende \nEintrittspreise:\n€ 0.- für alle Wärterinnen. Sie werden im Laufe das Abends außerdem mit einem kleinen Buffet zur Stärkung verwöhnt\n€ 18.- für weibliche Besucherinnen\n€ 48.- für männliche Besucher\n€ 87.- für männliche Insassen. Bis 21:00 dürfen sie sich an der Bar Drinks\nbestellen. Ab dann gibt es nur die Verköstigung\, die die Gefängnisküche hergibt.\nGefängnisspeisen und Leitungswasser sind im Eintrittspreis inkludiert. \nKarten sind an der Abendkassa oder im Vorverkauf im No Limits und im Hotel Do Step Inn Felberstraße 20 in 1150 Wien erhältlich.
URL:https://www.nolimits.bar/de/event/boot-camp-fuer-schwer-erziehbare-buben-4-2/
LOCATION:NoLimits\, Wurmbstraße 36\, Wien\, Wien\, 1120\, Österreich
CATEGORIES:Party
ATTACH;FMTTYPE=image/jpeg:https://www.nolimits.bar/de/wp-content/uploads/2017/05/IMG_7008_Lightroom.jpg
ORGANIZER;CN="NoLimits":MAILTO:office@nolimits.bar
GEO:48.171795;16.332904
X-APPLE-STRUCTURED-LOCATION;VALUE=URI;X-ADDRESS=NoLimits Wurmbstraße 36 Wien Wien 1120 Österreich;X-APPLE-RADIUS=500;X-TITLE=Wurmbstraße 36:geo:16.332904,48.171795
END:VEVENT
END:VCALENDAR