BEGIN:VCALENDAR
VERSION:2.0
PRODID:-//No Limits SM-Bar &amp; Lounge, BDSM Wien - ECPv6.8.3//NONSGML v1.0//EN
CALSCALE:GREGORIAN
METHOD:PUBLISH
X-ORIGINAL-URL:https://www.nolimits.bar/de
X-WR-CALDESC:Veranstaltungen für No Limits SM-Bar &amp; Lounge, BDSM Wien
REFRESH-INTERVAL;VALUE=DURATION:PT1H
X-Robots-Tag:noindex
X-PUBLISHED-TTL:PT1H
BEGIN:VTIMEZONE
TZID:Europe/Berlin
BEGIN:DAYLIGHT
TZOFFSETFROM:+0100
TZOFFSETTO:+0200
TZNAME:CEST
DTSTART:20230326T010000
END:DAYLIGHT
BEGIN:STANDARD
TZOFFSETFROM:+0200
TZOFFSETTO:+0100
TZNAME:CET
DTSTART:20231029T010000
END:STANDARD
END:VTIMEZONE
BEGIN:VEVENT
DTSTART;TZID=Europe/Berlin:20230525T200000
DTEND;TZID=Europe/Berlin:20230526T020000
DTSTAMP:20260422T124656
CREATED:20230522T220119Z
LAST-MODIFIED:20230522T220119Z
UID:10003357-1685044800-1685066400@www.nolimits.bar
SUMMARY:BDSM Hochzeit
DESCRIPTION:Unsere liebe Betty und unser lieber Franz trauen sich bei uns trauen zu lassen 😉\nWir freuen uns bereits auf zahlreiches Erscheinen an diesem wunderbaren Abend. Lasst uns anstoßen\, Spaß haben und genau diesen Moment genießen.\nAußerdem können wir es kaum erwarten wenn es heißt: “Sie dürfen die Braut jetzt schlagen!”
URL:https://www.nolimits.bar/de/event/bdsm-hochzeit-2/
LOCATION:NoLimits\, Wurmbstraße 36\, Wien\, Wien\, 1120\, Österreich
ATTACH;FMTTYPE=image/jpeg:https://www.nolimits.bar/de/wp-content/uploads/2023/05/8f2c8cf5-b9ca-4932-8159-5da9f46e2882.jpg
ORGANIZER;CN="NoLimits":MAILTO:office@nolimits.bar
GEO:48.171795;16.332904
X-APPLE-STRUCTURED-LOCATION;VALUE=URI;X-ADDRESS=NoLimits Wurmbstraße 36 Wien Wien 1120 Österreich;X-APPLE-RADIUS=500;X-TITLE=Wurmbstraße 36:geo:16.332904,48.171795
END:VEVENT
END:VCALENDAR