BEGIN:VCALENDAR
VERSION:2.0
PRODID:-//No Limits SM-Bar &amp; Lounge, BDSM Wien - ECPv6.8.3//NONSGML v1.0//EN
CALSCALE:GREGORIAN
METHOD:PUBLISH
X-ORIGINAL-URL:https://www.nolimits.bar/de
X-WR-CALDESC:Veranstaltungen für No Limits SM-Bar &amp; Lounge, BDSM Wien
REFRESH-INTERVAL;VALUE=DURATION:PT1H
X-Robots-Tag:noindex
X-PUBLISHED-TTL:PT1H
BEGIN:VTIMEZONE
TZID:Europe/Berlin
BEGIN:DAYLIGHT
TZOFFSETFROM:+0100
TZOFFSETTO:+0200
TZNAME:CEST
DTSTART:20240331T010000
END:DAYLIGHT
BEGIN:STANDARD
TZOFFSETFROM:+0200
TZOFFSETTO:+0100
TZNAME:CET
DTSTART:20241027T010000
END:STANDARD
END:VTIMEZONE
BEGIN:VEVENT
DTSTART;TZID=Europe/Berlin:20240413T210000
DTEND;TZID=Europe/Berlin:20240414T040000
DTSTAMP:20260425T235001
CREATED:20231130T111449Z
LAST-MODIFIED:20240104T134222Z
UID:10003341-1713042000-1713067200@www.nolimits.bar
SUMMARY:Die Patronin
DESCRIPTION:Eine Patronin der Cosa Nostra reist aus Italien an\, um endlich auch mal in Wien-Meidling ein internationales Vernetzungstreffen zu lancieren. Die Köpfe der ehrenwerten Gesellschaft geben sich im No Limits die Ehre. Neben geheimen Absprachen und viel Wein und Spaß müssen aber auch alte Rechnung beglichen\, allfällige Verstöße gegen die Omerta geahndet und mittels gefühlvoller Verhöre Verräter ausgeforscht werden \nWer wollte immer schon mal von einer italienischen Patriarchin\, ausgestattet mit allen Insignien der Macht\, verhört werden? Wer kann damit umgehen\, dass es sich bei unserem Gast aus dem Süden um eine ausgeprägt dominante Persönlichkeit handelt\, die den Bewegungsspielraum der von ihr „gefühlvoll” befragten Untergebenen mit geschicktem Bondage deutlich einzuengen weiß? Wer kommt damit klar\, dass es zu entsprechenden (Unmuts-)Äußerungen ihrer Kolleginnen kommen könnte? Und Vorsicht: nicht alle Verfehlungen lassen sich mit einer Einladung zu einer Flasche Prosecco aus der Welt schaffen. Werden von der Patronin schwere Verfehlungen festgestellt\, werden diese auch an Ort und Stelle bestraft – ja\, es sind samt und sonders Körperstrafen\, die von ihr regelmäßig ob der generalpräventiven Wirkung bevorzugt werden. Bewerber\, die sich von diesen Warnungen nicht abschrecken lassen\, dürfen sich beim Entrée gerne melden. \nWie bei einem derart hochkarätigem Treffen der Patrones nicht anders zu erwarten wird gemeinsam getrunken\, gesungen\, getanzt und gespielt. Wir hoffen\, dass sich entsprechendes Servicepersonal anschickt die hohen Herrschaften lasziv zu bedienen. Ein ernstes Wörtchen muss mit all jenen Emporkömmlingen gesprochen werden\, die sich glauben Frechheiten herausnehmen zu können oder die gar vom einen oder anderen bezichtigt werden nicht voll und ganz hinter der ehrenwerten Gesellschaft zu stehen. \nWir hoffen\, dass sich auch der eine oder andere Hochwürden blicken lässt. Jede Menge Politiker\, Anwälte und andere Korruptionisten sind mit Sicherheit immer dabei\, wo es darum geht\, geheime Absprachen darüber zu treffen wie hoch ihr gerechter Anteil an der Beute ausfallen wird. Ein Treffen unter Geschwistern! \n Wir freuen uns auf einen Abend voll von Italienischem Flair\, Dolce Vita und „italian chaos”. \nAblauf:\n21:00 Start\n22:30-23:00 Mafia-Verhör durch die Patin des Abends\n04:00 früh Ende \nDresscode:\nWir freuen uns über jedes passende Outfit: dicke Goldkettchen\, (gefälschte) Rolexuhren\, Gigolo-Outfit\, Gangster-Style\, Madonna\, aufgedonnerte Damen\, aber natürlich auch Leder\, Lack und Latex. Hochwürden\, Politiker\, Anwälte und Korruptionisten jedweder Couleur sollten am besten auch durch die entsprechende Kleidung kenntlich sein. \nEintrittspreise:\n€ 28.- für Männer\, die sich den Eintritt in die ehrenwerte Gesellschaft leisten wollen\n€ 38.- für ein Pärchen\n€   9.- für Patroninnen wie Rekrutinnen \nKarten sind an der Abendkassa oder im Vorverkauf im No Limits und im Hotel Do Step Inn Felberstraße 20 in 1150 Wien erhältlich.
URL:https://www.nolimits.bar/de/event/die-patronin/
LOCATION:NoLimits\, Wurmbstraße 36\, Wien\, Wien\, 1120\, Österreich
CATEGORIES:Party
ATTACH;FMTTYPE=image/jpeg:https://www.nolimits.bar/de/wp-content/uploads/2023/11/23_11_Mafia2.jpg
ORGANIZER;CN="NoLimits":MAILTO:office@nolimits.bar
GEO:48.171795;16.332904
X-APPLE-STRUCTURED-LOCATION;VALUE=URI;X-ADDRESS=NoLimits Wurmbstraße 36 Wien Wien 1120 Österreich;X-APPLE-RADIUS=500;X-TITLE=Wurmbstraße 36:geo:16.332904,48.171795
END:VEVENT
END:VCALENDAR